View In:
ArcGIS JavaScript
ArcGIS Online map viewer
ArcGIS Earth
ArcMap
View Footprint In:
ArcGIS Online map viewer
Service Description: Ortos2012
Name: Ortos2012
Description: Ortos2012
Single Fused Map Cache: false
Extent:
XMin: -45800.07291200701
YMin: 147499.7563699857
XMax: -24999.872912007046
YMax: 164999.95636998583
Spatial Reference: 3763
(3763)
Initial Extent:
XMin: -45800.07291200701
YMin: 147499.7563699857
XMax: -24999.872912007046
YMax: 164999.95636998583
Spatial Reference: 3763
(3763)
Full Extent:
XMin: -45800.07291200701
YMin: 147499.7563699857
XMax: -24999.872912007046
YMax: 164999.95636998583
Spatial Reference: 3763
(3763)
Pixel Size X: 0.2999999999999995
Pixel Size Y: 0.3000000000000022
Band Count: 3
Pixel Type: U8
RasterFunction Infos: {"rasterFunctionInfos": [{
"name": "None",
"description": "",
"help": ""
}]}
Mensuration Capabilities: Basic
Has Histograms: true
Has Colormap: false
Has Multi Dimensions : false
Rendering Rule:
Min Scale: 0
Max Scale: 0
Copyright Text:
Service Data Type: esriImageServiceDataTypeRGB
Min Values: 0, 0, 0
Max Values: 255, 255, 255
Mean Values: 109.1454797980943, 105.45981333879266, 98.67261980450387
Standard Deviation Values: 56.1502291897529, 46.359373265245345, 40.89375955205069
Object ID Field:
Fields:
None
Default Mosaic Method: Center
Allowed Mosaic Methods:
SortField:
SortValue: null
Mosaic Operator: First
Default Compression Quality: 75
Default Resampling Method: Bilinear
Max Record Count: null
Max Image Height: 4100
Max Image Width: 15000
Max Download Image Count: null
Max Mosaic Image Count: null
Allow Raster Function: true
Allow Copy: null
Allow Analysis: null
Allow Compute TiePoints: false
Supports Statistics: false
Supports Advanced Queries: false
Use StandardizedQueries: true
Raster Type Infos:
Name: Raster Dataset
Description: Supports all ArcGIS Raster Datasets
Help:
Has Raster Attribute Table: false
Edit Fields Info: null
Ownership Based AccessControl For Rasters: null
Child Resources:
Info
Histograms
Key Properties
Legend
Raster Function Infos
Supported Operations:
Export Image
Identify
Measure
Compute Histograms
Compute Statistics Histograms
Get Samples
Compute Class Statistics
Query Boundary
Compute Pixel Location
Compute Angles
Validate
Project