View In:
ArcGIS JavaScript
ArcGIS Online map viewer
ArcGIS Earth
Service Description: Online/MDT19
Name: Online/MDT19
Description:
Single Fused Map Cache: false
Extent:
XMin: -45545.72520000022
YMin: 148941.74980000124
XMax: -26500.72520000022
YMax: 164379.24980000124
Spatial Reference: 0
(0)
LatestVCSWkid(0)
Initial Extent:
XMin: -45545.72520000022
YMin: 148941.74980000124
XMax: -26500.72520000022
YMax: 164379.24980000124
Spatial Reference: 0
(0)
LatestVCSWkid(0)
Full Extent:
XMin: -45545.72520000022
YMin: 148941.74980000124
XMax: -26500.72520000022
YMax: 164379.24980000124
Spatial Reference: 0
(0)
LatestVCSWkid(0)
Pixel Size X: 2.5
Pixel Size Y: 2.5
Band Count: 1
Pixel Type: F32
RasterFunction Infos: {"rasterFunctionInfos": [{
"name": "None",
"description": "",
"help": ""
}]}
Mensuration Capabilities: Basic
Inspection Capabilities:
Has Histograms: true
Has Colormap: false
Has Multi Dimensions : false
Rendering Rule:
Min Scale: 0
Max Scale: 0
Copyright Text:
Service Data Type: esriImageServiceDataTypeGeneric
Min Values: 0
Max Values: 260
Mean Values: 97.99400460843086
Standard Deviation Values: 54.41986983893299
Object ID Field:
Fields:
None
Default Mosaic Method: Center
Allowed Mosaic Methods:
SortField:
SortValue: null
Mosaic Operator: First
Default Compression Quality: 75
Default Resampling Method: Bilinear
Max Record Count: null
Max Image Height: 4100
Max Image Width: 15000
Max Download Image Count: null
Max Mosaic Image Count: null
Allow Raster Function: true
Allow Copy: true
Allow Analysis: true
Allow Compute TiePoints: false
Supports Statistics: false
Supports Advanced Queries: false
Use StandardizedQueries: true
Raster Type Infos:
Name: Raster Dataset
Description: Supports all ArcGIS Raster Datasets
Help:
Has Raster Attribute Table: false
Edit Fields Info: null
Ownership Based AccessControl For Rasters: null
Child Resources:
Info
Histograms
Statistics
Key Properties
Legend
Raster Function Infos
Supported Operations:
Export Image
Identify
Measure
Compute Histograms
Compute Statistics Histograms
Get Samples
Compute Class Statistics
Query Boundary
Compute Pixel Location
Compute Angles
Validate
Project